BEGIN:VCALENDAR
VERSION:2.0
PRODID:-//MANUKI - ECPv6.6.2//NONSGML v1.0//EN
CALSCALE:GREGORIAN
METHOD:PUBLISH
X-WR-CALNAME:MANUKI
X-ORIGINAL-URL:https://manuki.fr
X-WR-CALDESC:évènements pour MANUKI
REFRESH-INTERVAL;VALUE=DURATION:PT1H
X-Robots-Tag:noindex
X-PUBLISHED-TTL:PT1H
BEGIN:VTIMEZONE
TZID:Europe/Paris
BEGIN:DAYLIGHT
TZOFFSETFROM:+0100
TZOFFSETTO:+0200
TZNAME:CEST
DTSTART:20180325T010000
END:DAYLIGHT
BEGIN:STANDARD
TZOFFSETFROM:+0200
TZOFFSETTO:+0100
TZNAME:CET
DTSTART:20181028T010000
END:STANDARD
END:VTIMEZONE
BEGIN:VEVENT
DTSTART;TZID=Europe/Paris:20180903T190000
DTEND;TZID=Europe/Paris:20180903T203000
DTSTAMP:20260422T024408
CREATED:20180809T205257Z
LAST-MODIFIED:20180809T211414Z
UID:1971-1536001200-1536006600@manuki.fr
SUMMARY:Rentrée Ju Jitsu saison 2018-19
DESCRIPTION:La Rentrée JuJitsu de MANUKI aura lieu le 3 septembre prochain. Pensez à vous inscrire dès maintenant sur le formulaire en ligne et avant cette date et à régler les formalités avant le 15 septembre pour bénéficier des 5 euros de remise (gratification de votre rapidité à régler ces formalités qui ne réjouissent personne – notamment pour facilité la tâche du trésorier et le secrétaire) \nLes portes seront ouvertes à partir de 18h30 pour accueillir facilement tout le monde. \nBienvenue dans votre club pour les anciens\, bienvenue aux petits nouveaux (de belles bêtes parfois ! ) dans votre dojo désormais et toute l’équipe de MANUKI vous souhaite une excellente saison !
URL:https://manuki.fr/event/rentree-ju-jitsu-saison-2018-19/
LOCATION:Dojo de Pont à Vendin\, 1 Rue Arthur Thomas\, Pont à Vendin\, France
ORGANIZER;CN="MANUKI":MAILTO:contact@manuki.fr
END:VEVENT
END:VCALENDAR