BEGIN:VCALENDAR
VERSION:2.0
PRODID:-//MANUKI - ECPv6.6.2//NONSGML v1.0//EN
CALSCALE:GREGORIAN
METHOD:PUBLISH
X-ORIGINAL-URL:https://manuki.fr
X-WR-CALDESC:évènements pour MANUKI
REFRESH-INTERVAL;VALUE=DURATION:PT1H
X-Robots-Tag:noindex
X-PUBLISHED-TTL:PT1H
BEGIN:VTIMEZONE
TZID:Europe/Paris
BEGIN:DAYLIGHT
TZOFFSETFROM:+0100
TZOFFSETTO:+0200
TZNAME:CEST
DTSTART:20180325T010000
END:DAYLIGHT
BEGIN:STANDARD
TZOFFSETFROM:+0200
TZOFFSETTO:+0100
TZNAME:CET
DTSTART:20181028T010000
END:STANDARD
END:VTIMEZONE
BEGIN:VEVENT
DTSTART;TZID=Europe/Paris:20180111T200000
DTEND;TZID=Europe/Paris:20180111T210000
DTSTAMP:20260424T151615
CREATED:20180109T125830Z
LAST-MODIFIED:20180109T140618Z
UID:1645-1515700800-1515704400@manuki.fr
SUMMARY:Galette Manuki
DESCRIPTION:Pour ne pas faillir à la tradition\, nous allons avoir des rois et des reines au club cette semaine ! \nAmi(e)s adhérents et ami(e)s Manuki\, nous vous attendons pour venir partager ce moment de convivialité à l’issue d’un entrainement raccourci (1H00 au lieu de 1H30). \nA jeudi
URL:https://manuki.fr/event/galette-manuki/
LOCATION:Dojo de Pont à Vendin\, 1 Rue Arthur Thomas\, Pont à Vendin\, France
ATTACH;FMTTYPE=image/png:https://manuki.fr/wp-content/uploads/2018/01/Manuki-Galette_des_rois_18.png
ORGANIZER;CN="MANUKI":MAILTO:contact@manuki.fr
END:VEVENT
END:VCALENDAR