BEGIN:VCALENDAR
VERSION:2.0
PRODID:-//MANUKI - ECPv6.6.2//NONSGML v1.0//EN
CALSCALE:GREGORIAN
METHOD:PUBLISH
X-ORIGINAL-URL:https://manuki.fr
X-WR-CALDESC:évènements pour MANUKI
REFRESH-INTERVAL;VALUE=DURATION:PT1H
X-Robots-Tag:noindex
X-PUBLISHED-TTL:PT1H
BEGIN:VTIMEZONE
TZID:Europe/Paris
BEGIN:DAYLIGHT
TZOFFSETFROM:+0100
TZOFFSETTO:+0200
TZNAME:CEST
DTSTART:20170326T010000
END:DAYLIGHT
BEGIN:STANDARD
TZOFFSETFROM:+0200
TZOFFSETTO:+0100
TZNAME:CET
DTSTART:20171029T010000
END:STANDARD
END:VTIMEZONE
BEGIN:VEVENT
DTSTART;TZID=Europe/Paris:20170909T090000
DTEND;TZID=Europe/Paris:20170909T102000
DTSTAMP:20260424T211150
CREATED:20170821T211731Z
LAST-MODIFIED:20170821T212413Z
UID:1390-1504947600-1504952400@manuki.fr
SUMMARY:RENTRÉE SELF DEFENSE MANUKI
DESCRIPTION:Rentrée Saison 2017-18 pour le SELF DEFENSE DE MANUKI. \nNous vous attendons en tenue de sport pour démarrer l’année avec un nouveau programme d’entraînement et à partir de cette année un système de grade par niveau. T-Shirt BLANC de rigueur pour cette première séance !
URL:https://manuki.fr/event/rentree-self-defense-manuki/
LOCATION:Dojo de Carvin\, Complexe sportif de carvin route de meurchin\, carvin\, 62220\, France
ATTACH;FMTTYPE=image/jpeg:https://manuki.fr/wp-content/uploads/2017/08/Rentree-self_manuki.jpg
ORGANIZER;CN="MANUKI":MAILTO:contact@manuki.fr
END:VEVENT
END:VCALENDAR