BEGIN:VCALENDAR
VERSION:2.0
PRODID:-//MANUKI - ECPv6.6.2//NONSGML v1.0//EN
CALSCALE:GREGORIAN
METHOD:PUBLISH
X-WR-CALNAME:MANUKI
X-ORIGINAL-URL:https://manuki.fr
X-WR-CALDESC:évènements pour MANUKI
REFRESH-INTERVAL;VALUE=DURATION:PT1H
X-Robots-Tag:noindex
X-PUBLISHED-TTL:PT1H
BEGIN:VTIMEZONE
TZID:Europe/Paris
BEGIN:DAYLIGHT
TZOFFSETFROM:+0100
TZOFFSETTO:+0200
TZNAME:CEST
DTSTART:20170326T010000
END:DAYLIGHT
BEGIN:STANDARD
TZOFFSETFROM:+0200
TZOFFSETTO:+0100
TZNAME:CET
DTSTART:20171029T010000
END:STANDARD
END:VTIMEZONE
BEGIN:VEVENT
DTSTART;TZID=Europe/Paris:20170904T190000
DTEND;TZID=Europe/Paris:20170904T203000
DTSTAMP:20260424T210854
CREATED:20170811T224523Z
LAST-MODIFIED:20170821T212907Z
UID:992-1504551600-1504557000@manuki.fr
SUMMARY:REPRISE SAISON 2017/18
DESCRIPTION:Nous vous attendons toutes et tous le lundi 4 à partir de 18h45 pour les formalités administratives et la reprise effective des cours pour cette nouvelle saison 2017/18.
URL:https://manuki.fr/event/reprise-saison-201718/
LOCATION:Dojo de Pont à Vendin\, 1 Rue Arthur Thomas\, Pont à Vendin\, France
ATTACH;FMTTYPE=image/png:https://manuki.fr/wp-content/uploads/2017/08/Capture-d’écran-2017-08-04-à-17.20.11.png
END:VEVENT
END:VCALENDAR