BEGIN:VCALENDAR
VERSION:2.0
PRODID:-//MANUKI - ECPv6.6.2//NONSGML v1.0//EN
CALSCALE:GREGORIAN
METHOD:PUBLISH
X-WR-CALNAME:MANUKI
X-ORIGINAL-URL:https://manuki.fr
X-WR-CALDESC:évènements pour MANUKI
REFRESH-INTERVAL;VALUE=DURATION:PT1H
X-Robots-Tag:noindex
X-PUBLISHED-TTL:PT1H
BEGIN:VTIMEZONE
TZID:Europe/Paris
BEGIN:DAYLIGHT
TZOFFSETFROM:+0100
TZOFFSETTO:+0200
TZNAME:CEST
DTSTART:20170326T010000
END:DAYLIGHT
BEGIN:STANDARD
TZOFFSETFROM:+0200
TZOFFSETTO:+0100
TZNAME:CET
DTSTART:20171029T010000
END:STANDARD
END:VTIMEZONE
BEGIN:VEVENT
DTSTART;TZID=Europe/Paris:20170902T100000
DTEND;TZID=Europe/Paris:20170902T180000
DTSTAMP:20260424T210854
CREATED:20170823T190438Z
LAST-MODIFIED:20170823T190632Z
UID:1524-1504346400-1504375200@manuki.fr
SUMMARY:Forum santé de Annay sous Lens
DESCRIPTION:Manuki sera présent (en compagnie du Judo Club de Pont à Vendin) au forum Sport / Santé de d’Annay qui se tiendra le 2 septembre 2017\, de 10h à 12h et de 14h à 18h\, sur la place Salengro. Notre stand accueillera avec plaisir les amateurs d’Arts martiaux et les curieux pour fournir renseignements\, explications et proposer des démonstrations de notre discipline. \nVenez nombreux !
URL:https://manuki.fr/event/forum-sante-de-annay-sous-lens/
LOCATION:place salengro annay sous lens\, place salengro\, Annay sous lens\, 62880\, France
ATTACH;FMTTYPE=image/png:https://manuki.fr/wp-content/uploads/2017/08/forum020917.png
END:VEVENT
END:VCALENDAR